BEGIN:VCALENDAR
VERSION:2.0
PRODID:-//Casa da Cultura de Canaã dos Carajás - ECPv5.8.0//NONSGML v1.0//EN
CALSCALE:GREGORIAN
METHOD:PUBLISH
X-WR-CALNAME:Casa da Cultura de Canaã dos Carajás
X-ORIGINAL-URL:https://casadaculturacanaa.com.br
X-WR-CALDESC:Eventos para Casa da Cultura de Canaã dos Carajás
BEGIN:VTIMEZONE
TZID:America/Sao_Paulo
BEGIN:STANDARD
TZOFFSETFROM:-0300
TZOFFSETTO:-0300
TZNAME:-03
DTSTART:20250101T000000
END:STANDARD
END:VTIMEZONE
BEGIN:VEVENT
DTSTART;TZID=America/Sao_Paulo:20250604T183000
DTEND;TZID=America/Sao_Paulo:20250604T203000
DTSTAMP:20260423T065655
CREATED:20250530T152110Z
LAST-MODIFIED:20250530T152110Z
UID:8924-1749061800-1749069000@casadaculturacanaa.com.br
SUMMARY:Sessão da Casa | Filme Pés de Peixe – Atividade Extramuros
DESCRIPTION:Na quarta sessão da temporada 2025 do projeto que leva cinema a diversos públicos do município\, o filme “Pés de Peixe” será exibido na Vila Nova Jerusalém\, para alunos da rede pública. \nSinopse: Guilherme\, um jovem ribeirinho\, precisa vencer uma corrida local para ajudar sua comunidade a conquistar um gerador de energia. \n📅 04/06/2025\n🕒 18h30\n📍 Rua Constelação\, Assentamento Vila Nova Jerusalém\n👥 Público: livre\n📞 (94) 99220-3451 \nImagem: cartaz de divulgação
URL:https://casadaculturacanaa.com.br/evento/sessao-da-casa-filme-pes-de-peixe-atividade-extramuros/
ATTACH;FMTTYPE=image/png:https://casadaculturacanaa.com.br/wp-content/uploads/2025/05/Sessao-da-Casa_Filme-Pes-de-Peixe_Cartaz.png
END:VEVENT
END:VCALENDAR