BEGIN:VCALENDAR
VERSION:2.0
PRODID:-//Casa da Cultura de Canaã dos Carajás - ECPv5.8.0//NONSGML v1.0//EN
CALSCALE:GREGORIAN
METHOD:PUBLISH
X-WR-CALNAME:Casa da Cultura de Canaã dos Carajás
X-ORIGINAL-URL:https://casadaculturacanaa.com.br
X-WR-CALDESC:Eventos para Casa da Cultura de Canaã dos Carajás
BEGIN:VTIMEZONE
TZID:America/Sao_Paulo
BEGIN:STANDARD
TZOFFSETFROM:-0300
TZOFFSETTO:-0300
TZNAME:-03
DTSTART:20250101T000000
END:STANDARD
END:VTIMEZONE
BEGIN:VEVENT
DTSTART;TZID=America/Sao_Paulo:20250422T140000
DTEND;TZID=America/Sao_Paulo:20250422T180000
DTSTAMP:20260422T071707
CREATED:20250330T152431Z
LAST-MODIFIED:20250330T152431Z
UID:8764-1745330400-1745344800@casadaculturacanaa.com.br
SUMMARY:Sarau das Multivozes
DESCRIPTION:A Casa da Cultura convida a todos para uma noite especial de arte e expressão no Sarau das Multivozes\, em celebração ao Dia do Livro! Nesta edição\, vamos celebrar a literatura em diálogo com diversas manifestações artísticas\, reunindo música\, dança e poesia em um ambiente de troca e inspiração. Será um encontro para exaltar o poder dos livros\, das palavras e das diferentes formas de contar histórias\, seja pela escrita\, pelo corpo ou pelo som. Não perca essa experiência única! \nProgramação: \nContação de Histórias – Gabriela Pereira da Silva \nA produtora cultural Gabriela Pereira da Silva conduzirá uma contação de histórias com temática indígena\, integrando a programação especial do Dia Nacional do Livro Infantil na Casa da Cultura de Canaã dos Carajás. \nContação de História: Literatura Indígena e as Narrativas dos Povos Originários – Auritha Tabajara \nAuritha Tabajara conduz uma imersão na cultura de seu povo por meio de histórias transmitidas por sua avó\, brincadeiras tradicionais e reflexões sobre ancestralidade. A atividade inclui a vivência “Os aprendizados do silêncio nas florestas”\, além de cantos e danças\, como a sagrada Dança do Toré\, criando um espaço de conexão\, aprendizado e valorização das tradições indígenas. \nPalestra: As Palavras Adiando o Fim do Mundo – Airton Souza \nO escritor marabaense Airton Souza propõe uma reflexão sobre o poder da palavra escrita e oral na transformação da sociedade\, inspirando-se no pensamento de Ailton Krenak. A palestra abordará como a literatura e a oralidade podem modificar percepções\, influenciar atitudes e contribuir para a resistência cultural e ambiental\, adiando\, assim\, o “fim do mundo” como concebido pelo autor indígena. \nSocialização: Ancestralidade do Grafismo Guajajara – Regilanne Guajajara \nA artesã e ativista indígena Regilanne Guajajara conduzirá uma roda de conversa sobre os grafismos indígenas e sua importância cultural\, espiritual e identitária. Compartilhando saberes de sua vivência nas aldeias Piçarra Preta (MA) e Parkatêjê (PA)\, ela abordará o uso do jenipapo\, as transformações dessas expressões ao longo do tempo e a valorização da identidade Guajajara. O encontro será encerrado com uma experiência prática de pintura corporal\, promovendo uma imersão na cultura indígena. \nDeclamação de Poesias – Academia de Letras de Canaã dos Carajás \nA Academia Canaãnense de Letras (ACL) marcará presença no Sarau Multivozes com um momento especial de declamação de poesias. Criada para valorizar escritores e artistas locais\, a ACL tem como missão resgatar a história da cidade\, promover a literatura e fortalecer a cultura regional. Além das declamações\, o encontro contará com a participação de escritores locais\, proporcionando uma troca de saberes e experiências sobre a escrita e a oralidade. \nData: 22 de abril\nHorário: 14h\nLocal: Casa da Cultura de Canaã dos Carajás\nPúblico: Livre\nInformações: (94) 99220-3451 \nFoto: Acervo Casa da Cultura
URL:https://casadaculturacanaa.com.br/evento/sarau-das-multivozes/
ATTACH;FMTTYPE=image/jpeg:https://casadaculturacanaa.com.br/wp-content/uploads/2025/03/Sarau-das-Multivozes_Acervo-Casa.jpeg
END:VEVENT
END:VCALENDAR