BEGIN:VCALENDAR
VERSION:2.0
PRODID:-//Casa da Cultura de Canaã dos Carajás - ECPv5.8.0//NONSGML v1.0//EN
CALSCALE:GREGORIAN
METHOD:PUBLISH
X-WR-CALNAME:Casa da Cultura de Canaã dos Carajás
X-ORIGINAL-URL:https://casadaculturacanaa.com.br
X-WR-CALDESC:Eventos para Casa da Cultura de Canaã dos Carajás
BEGIN:VTIMEZONE
TZID:America/Sao_Paulo
BEGIN:STANDARD
TZOFFSETFROM:-0300
TZOFFSETTO:-0300
TZNAME:-03
DTSTART:20220101T000000
END:STANDARD
END:VTIMEZONE
BEGIN:VEVENT
DTSTART;TZID=America/Sao_Paulo:20220329T200000
DTEND;TZID=America/Sao_Paulo:20220329T210000
DTSTAMP:20260423T065018
CREATED:20220228T145556Z
LAST-MODIFIED:20220228T145556Z
UID:5738-1648584000-1648587600@casadaculturacanaa.com.br
SUMMARY:Contação de Histórias em Libras: Palhaço Ladislau e o Circo Acessível
DESCRIPTION:Palhaço Ladislau e o Circo Acessível é uma linda historinha que revela a importância da inclusão social dos surdos! \nData: 29 de março de 2022\nHorário: 20h\, via WhatsApp\nAutora: Cleo Barros\nContador: Sulivan Netto – Intérprete da Signumweb\nPúblico-alvo: comunidade em geral \nAtividade gratuita \nFoto: arquivo pessoal
URL:https://casadaculturacanaa.com.br/evento/contacao-de-historias-em-libras-palhaco-ladislau-e-o-circo-acessivel/
ATTACH;FMTTYPE=image/jpeg:https://casadaculturacanaa.com.br/wp-content/uploads/2022/02/Contação_Palhaço-Ladeslau-e-o-circo-acessível_Sulivan-Netto_Arquivo-pessoal.jpeg
END:VEVENT
END:VCALENDAR