BEGIN:VCALENDAR
VERSION:2.0
PRODID:-//Casa da Cultura de Canaã dos Carajás - ECPv5.8.0//NONSGML v1.0//EN
CALSCALE:GREGORIAN
METHOD:PUBLISH
X-WR-CALNAME:Casa da Cultura de Canaã dos Carajás
X-ORIGINAL-URL:https://casadaculturacanaa.com.br
X-WR-CALDESC:Eventos para Casa da Cultura de Canaã dos Carajás
BEGIN:VTIMEZONE
TZID:America/Sao_Paulo
BEGIN:STANDARD
TZOFFSETFROM:-0300
TZOFFSETTO:-0300
TZNAME:-03
DTSTART:20250101T000000
END:STANDARD
END:VTIMEZONE
BEGIN:VEVENT
DTSTART;TZID=America/Sao_Paulo:20250606T193000
DTEND;TZID=America/Sao_Paulo:20250606T213000
DTSTAMP:20260423T054545
CREATED:20250530T152506Z
LAST-MODIFIED:20250530T152951Z
UID:8927-1749238200-1749245400@casadaculturacanaa.com.br
SUMMARY:Casa Caminhante: Exibição do Filme Moana 2 – Extramuros\, Usina da Paz de Parauapebas
DESCRIPTION:A exibição do filme Moana 2 na Casa da Cultura foi um sucesso\, e chegou a hora de mais uma edição emocionante! Dessa vez\, vamos levar a magia do cinema para um novo espaço: a Usina da Paz de Parauapebas\, um local que é símbolo de cidadania e transformação social no sudeste do Pará. \nSinopse: \nSequência da já clássica animação musical\, Moana 2 acompanha o reencontro da corajosa Moana com o semideus Maui. Três anos após sua última jornada\, Moana atende ao chamado de seus ancestrais e parte em uma nova missão oceânica\, desta vez ao lado de um grupo inusitado de marinheiros. Juntos\, eles enfrentam deuses\, monstros e feitiços para quebrar uma maldição e restaurar a paz em uma das ilhas de seu povo. \n📅 Data: 06 de junho de 2025\n🕢 Horário: 19h30\n📍 Local: Usina da Paz de Parauapebas – Bairro Jardim Ipiranga\n🎯 Público: Livre\n📞 Informações: (94) 99220-3451 \nImagem: cartaz de divulgação
URL:https://casadaculturacanaa.com.br/evento/casa-caminhante-exibicao-do-filme-moana-2-extramuros-usina-da-paz-de-parauapebas/
ATTACH;FMTTYPE=image/png:https://casadaculturacanaa.com.br/wp-content/uploads/2025/05/Casa-Caminhante_Divulgacao-e1748618977315.png
END:VEVENT
END:VCALENDAR