BEGIN:VCALENDAR
VERSION:2.0
PRODID:-//Casa da Cultura de Canaã dos Carajás - ECPv5.8.0//NONSGML v1.0//EN
CALSCALE:GREGORIAN
METHOD:PUBLISH
X-WR-CALNAME:Casa da Cultura de Canaã dos Carajás
X-ORIGINAL-URL:https://casadaculturacanaa.com.br
X-WR-CALDESC:Eventos para Casa da Cultura de Canaã dos Carajás
BEGIN:VTIMEZONE
TZID:America/Sao_Paulo
BEGIN:STANDARD
TZOFFSETFROM:-0300
TZOFFSETTO:-0300
TZNAME:-03
DTSTART:20250101T000000
END:STANDARD
END:VTIMEZONE
BEGIN:VEVENT
DTSTART;TZID=America/Sao_Paulo:20250510T090000
DTEND;TZID=America/Sao_Paulo:20250611T190000
DTSTAMP:20260422T163335
CREATED:20250429T191454Z
LAST-MODIFIED:20250530T161620Z
UID:8858-1746867600-1749668400@casadaculturacanaa.com.br
SUMMARY:Mini Exposição Frutos\, Bandeiras\, Paisagens
DESCRIPTION:A oficina extramuros de Pintura Tridimensional com a artista Bárbara Savannah foi um momento de intensa experimentação e liberdade criativa para os alunos da EMEF Luís Carlos Prestes. \nA partir dessa vivência\, surgiram obras potentes\, cheias de textura\, cores e narrativas sensíveis que refletem o olhar de cada participante sobre o mundo ao seu redor. \nComo desdobramento desse processo\, temos o prazer de apresentar a mini exposição Frutos\, Bandeiras\, Paisagens\, reunindo os trabalhos produzidos pelos alunos durante a oficina. \nMais do que uma mostra de pintura\, esta exposição é um convite para enxergar os frutos da imaginação\, as bandeiras que cada um carrega e as paisagens que nos habitam. \nVisitação: 10 de maio a 11 de junho\, das 8h às 19h (exceto domingos e feriados) \nLocal: Casa da Cultura de Canaã dos Carajás \nPúblico: Livre \nInformações: (94) 99220-3451 \nFoto: Matheus Santos – Assombração
URL:https://casadaculturacanaa.com.br/evento/abertura-mini-exposicao-frutos-bandeiras-paisagens/
ATTACH;FMTTYPE=image/jpeg:https://casadaculturacanaa.com.br/wp-content/uploads/2025/04/Abertura-Mini-Exposicao-Frutos-bandeiras-e-paisagens_Matheus-Santos_Assombracao-jpeg.jpeg
END:VEVENT
END:VCALENDAR